BEGIN:VCALENDAR
VERSION:2.0
PRODID:-//Plone.org//NONSGML plone.app.event//EN
X-WR-TIMEZONE:Europe/Madrid
BEGIN:VEVENT
SUMMARY:Festa Major. Concert Ambauka
DTSTART;TZID=Europe/Madrid;VALUE=DATE-TIME:20210730T190000
DTEND;TZID=Europe/Madrid;VALUE=DATE-TIME:20210730T200000
DTSTAMP;VALUE=DATE-TIME:20260424T101221Z
UID:f549476a76d8f45da6473ffa09401aba
CREATED;VALUE=DATE-TIME:20210730T000000Z
CATEGORIES:Música,Festes i fires,Familiars,Agenda institucional
LOCATION:Escola Fabra del Bosquet - Avinguda del Bosquet, 1. 08328 Alella
ORGANIZER:Ajuntament d'Alella
COMMENT:Preu: Gratuït
URL:https://www.mynerva.net/ajalella/document.php?id=15306
END:VEVENT
END:VCALENDAR