BEGIN:VCALENDAR
VERSION:2.0
PRODID:-//Plone.org//NONSGML plone.app.event//EN
X-WR-TIMEZONE:Europe/Madrid
BEGIN:VEVENT
SUMMARY:Festa Major. Mural de Festa Major
DTSTART;TZID=Europe/Madrid;VALUE=DATE-TIME:20210730T180000
DTEND;TZID=Europe/Madrid;VALUE=DATE-TIME:20210730T190000
DTSTAMP;VALUE=DATE-TIME:20260424T101337Z
UID:52ddc42b5bee4328d7906cf2badede39
CREATED;VALUE=DATE-TIME:20210730T000000Z
CATEGORIES:Festes i fires,Familiars
LOCATION:Centre Cultural de Can Lleonart - Plaça dels Germans Lleonart, 1 08328 Alella
ORGANIZER:Ajuntament d'Alella
COMMENT:Preu: Gratuït
URL:https://www.mynerva.net/ajalella/document.php?id=15307
END:VEVENT
END:VCALENDAR