BEGIN:VCALENDAR
VERSION:2.0
PRODID:-//Plone.org//NONSGML plone.app.event//EN
X-WR-TIMEZONE:Europe/Madrid
BEGIN:VEVENT
SUMMARY:Festa Major. Hora de conte
DTSTART;TZID=Europe/Madrid;VALUE=DATE-TIME:20210730T120000
DTEND;TZID=Europe/Madrid;VALUE=DATE-TIME:20210730T130000
DTSTAMP;VALUE=DATE-TIME:20260424T150652Z
UID:46636d34ad74ee7294b331ee4250c145
CREATED;VALUE=DATE-TIME:20210730T000000Z
CATEGORIES:Festes i fires,Familiars
LOCATION:Pati de Can Gaza
ORGANIZER:Ajuntament d'Alella
COMMENT:Preu: Gratuït
DESCRIPTION:Els animals de colors, amb la Companyia  Sgratta
URL:https://www.mynerva.net/ajalella/document.php?id=15310
END:VEVENT
END:VCALENDAR