BEGIN:VCALENDAR
VERSION:2.0
PRODID:-//Plone.org//NONSGML plone.app.event//EN
X-WR-TIMEZONE:Europe/Madrid
BEGIN:VEVENT
SUMMARY:Festa Major. Jocs d'aigua
DTSTART;TZID=Europe/Madrid;VALUE=DATE-TIME:20210730T110000
DTEND;TZID=Europe/Madrid;VALUE=DATE-TIME:20210730T120000
DTSTAMP;VALUE=DATE-TIME:20260424T101246Z
UID:0b7cedeb83a6145139313f1e7f70ae31
CREATED;VALUE=DATE-TIME:20210730T000000Z
CATEGORIES:Festes i fires,Familiars
LOCATION:Carrer Àfrica
ORGANIZER:Ajuntament d'Alella
COMMENT:Preu: Gratuït
URL:https://www.mynerva.net/ajalella/document.php?id=15311
END:VEVENT
END:VCALENDAR