BEGIN:VCALENDAR
VERSION:2.0
PRODID:-//Plone.org//NONSGML plone.app.event//EN
X-WR-TIMEZONE:Europe/Madrid
BEGIN:VEVENT
SUMMARY:Fira d'Artesania i vermut musical
DTSTART;TZID=Europe/Madrid;VALUE=DATE-TIME:20210725T113000
DTEND;TZID=Europe/Madrid;VALUE=DATE-TIME:20210725T123000
DTSTAMP;VALUE=DATE-TIME:20260424T102251Z
UID:b7ec352eb1af2f249e71266cc9bec4c2
CREATED;VALUE=DATE-TIME:20210725T000000Z
CATEGORIES:Espectacles,Festes i fires,Joves
LOCATION:Plaça d'Antoni Pujadas - Plaça d'Antoni Pujadas. 08328 Alella
ORGANIZER:Ajuntament d'Alella
COMMENT:Preu: Gratuït
Durada: Fins les 13:30h
DESCRIPTION:Fil·loxera 2021
URL:https://www.mynerva.net/ajalella/document.php?id=15434
END:VEVENT
END:VCALENDAR