BEGIN:VCALENDAR
VERSION:2.0
PRODID:-//Plone.org//NONSGML plone.app.event//EN
X-WR-TIMEZONE:Europe/Madrid
BEGIN:VEVENT
SUMMARY:Festa Verema. Tallada de raïm
DTSTART;TZID=Europe/Madrid;VALUE=DATE-TIME:20210902T183000
DTEND;TZID=Europe/Madrid;VALUE=DATE-TIME:20210902T193000
DTSTAMP;VALUE=DATE-TIME:20260424T063948Z
UID:5f63690659f77a7bca8b137647c2d67d
CREATED;VALUE=DATE-TIME:20210902T000000Z
CATEGORIES:Festes i fires,Vi i gastronomia,Familiars
LOCATION:Vinya testimonial de Can Magarola
ORGANIZER:Ajuntament d'Alella
COMMENT:Durada: Dues sessions: 18.30 i 20h
DESCRIPTION:INSCRIPCIONS A L'OFICINA DE TURISME
URL:https://www.mynerva.net/ajalella/document.php?id=15517
END:VEVENT
END:VCALENDAR