BEGIN:VCALENDAR
VERSION:2.0
PRODID:-//Plone.org//NONSGML plone.app.event//EN
X-WR-TIMEZONE:Europe/Madrid
BEGIN:VEVENT
SUMMARY:Festa Verema. Tapes + Vi
DTSTART;TZID=Europe/Madrid;VALUE=DATE-TIME:20210903T100000
DTEND;TZID=Europe/Madrid;VALUE=DATE-TIME:20210903T110000
DTSTAMP;VALUE=DATE-TIME:20260424T063947Z
UID:a2d5592393b3e916c52975a0ff409175
CREATED;VALUE=DATE-TIME:20210903T000000Z
CATEGORIES:Festes i fires,Vi i gastronomia
LOCATION:Diferents bars i restaurants
ORGANIZER:Ajuntament d'Alella
COMMENT:Durada: Divendres, dissabte i diumenge
URL:https://www.mynerva.net/ajalella/document.php?id=15518
END:VEVENT
END:VCALENDAR