BEGIN:VCALENDAR
VERSION:2.0
PRODID:-//Plone.org//NONSGML plone.app.event//EN
X-WR-TIMEZONE:Europe/Madrid
BEGIN:VEVENT
SUMMARY:Festa Verema. Wine Bar entre vinyes
DTSTART;TZID=Europe/Madrid;VALUE=DATE-TIME:20210903T180000
DTEND;TZID=Europe/Madrid;VALUE=DATE-TIME:20210903T190000
DTSTAMP;VALUE=DATE-TIME:20260424T063947Z
UID:f8853d02cfe1c577181b2d7f64452ed6
CREATED;VALUE=DATE-TIME:20210903T000000Z
CATEGORIES:Festes i fires,Vi i gastronomia
LOCATION:Celler Bouquet d'Alella
ORGANIZER:Ajuntament d'Alella
COMMENT:Preu: Segons consumició. Cal reserva prèvia
Durada: De 18 a 21h
DESCRIPTION:ENTRADES EXHAURIDES
URL:https://www.mynerva.net/ajalella/document.php?id=15523
END:VEVENT
END:VCALENDAR