BEGIN:VCALENDAR
VERSION:2.0
PRODID:-//Plone.org//NONSGML plone.app.event//EN
X-WR-TIMEZONE:Europe/Madrid
BEGIN:VEVENT
SUMMARY:Festa Verema. Alta Alella Sunset Wine Bar-DJ Set
DTSTART;TZID=Europe/Madrid;VALUE=DATE-TIME:20210903T180000
DTEND;TZID=Europe/Madrid;VALUE=DATE-TIME:20210903T190000
DTSTAMP;VALUE=DATE-TIME:20260424T063941Z
UID:895705a7a6a6c2d11573251278bdd315
CREATED;VALUE=DATE-TIME:20210903T000000Z
CATEGORIES:Espectacles,Música,Festes i fires,Vi i gastronomia
LOCATION:Celler Alta Alella
ORGANIZER:Ajuntament d'Alella
COMMENT:Durada: De 18 a 20.30h
DESCRIPTION:ENTRADES EXHAURIDES
URL:https://www.mynerva.net/ajalella/document.php?id=15524
END:VEVENT
END:VCALENDAR