BEGIN:VCALENDAR
VERSION:2.0
PRODID:-//Plone.org//NONSGML plone.app.event//EN
X-WR-TIMEZONE:Europe/Madrid
BEGIN:VEVENT
SUMMARY:Festa Verema. Fira de la Festa de la Verema
DTSTART;TZID=Europe/Madrid;VALUE=DATE-TIME:20210905T100000
DTEND;TZID=Europe/Madrid;VALUE=DATE-TIME:20210905T110000
DTSTAMP;VALUE=DATE-TIME:20260424T133922Z
UID:d0a23e82001470c381a9f7b30ec07348
CREATED;VALUE=DATE-TIME:20210903T000000Z
CATEGORIES:Festes i fires,Vi i gastronomia
LOCATION:Plaça dels Germans Lleonart
ORGANIZER:Ajuntament d'Alella
COMMENT:Durada: Divendres, de 18 a 22h, dissabte i diumenge, de 10 a 22h
URL:https://www.mynerva.net/ajalella/document.php?id=15525
END:VEVENT
END:VCALENDAR