BEGIN:VCALENDAR
VERSION:2.0
PRODID:-//Plone.org//NONSGML plone.app.event//EN
X-WR-TIMEZONE:Europe/Madrid
BEGIN:VEVENT
SUMMARY:Festa Verema. Acte d'inauguració
DTSTART;TZID=Europe/Madrid;VALUE=DATE-TIME:20210903T193000
DTEND;TZID=Europe/Madrid;VALUE=DATE-TIME:20210903T203000
DTSTAMP;VALUE=DATE-TIME:20260424T063851Z
UID:fc1439a23d86cdc2963cf044945eb102
CREATED;VALUE=DATE-TIME:20210903T000000Z
CATEGORIES:Espectacles,Cinema,Festes i fires,Vi i gastronomia
LOCATION:Hort de la Rectoria
ORGANIZER:Ajuntament d'Alella
DESCRIPTION:ENTRADES EXHAURIDES
URL:https://www.mynerva.net/ajalella/document.php?id=15529
END:VEVENT
END:VCALENDAR