BEGIN:VCALENDAR
VERSION:2.0
PRODID:-//Plone.org//NONSGML plone.app.event//EN
X-WR-TIMEZONE:Europe/Madrid
BEGIN:VEVENT
SUMMARY:Festa Verema. Mostra d'oficis
DTSTART;TZID=Europe/Madrid;VALUE=DATE-TIME:20210904T100000
DTEND;TZID=Europe/Madrid;VALUE=DATE-TIME:20210904T110000
DTSTAMP;VALUE=DATE-TIME:20260424T120325Z
UID:ea3b9e8cef5395ddce2a7ffe016f005c
CREATED;VALUE=DATE-TIME:20210904T000000Z
CATEGORIES:Espectacles,Festes i fires,Vi i gastronomia
LOCATION:Diferents espais del municipi
ORGANIZER:Ajuntament d'Alella
COMMENT:Durada: De 10 a 22h
URL:https://www.mynerva.net/ajalella/document.php?id=15530
END:VEVENT
END:VCALENDAR