BEGIN:VCALENDAR
VERSION:2.0
PRODID:-//Plone.org//NONSGML plone.app.event//EN
X-WR-TIMEZONE:Europe/Madrid
BEGIN:VEVENT
SUMMARY:Festa Verema. Visita guiada al celler Bouquet d'Alella
DTSTART;TZID=Europe/Madrid;VALUE=DATE-TIME:20210904T100000
DTEND;TZID=Europe/Madrid;VALUE=DATE-TIME:20210904T110000
DTSTAMP;VALUE=DATE-TIME:20260424T063940Z
UID:f2ba0afb33849eed3ff9719f03040ae5
CREATED;VALUE=DATE-TIME:20210904T000000Z
CATEGORIES:Sortides,Festes i fires,Vi i gastronomia
LOCATION:Celler Bouquet d'Alella
ORGANIZER:Ajuntament d'Alella
DESCRIPTION:ENTRADES EXHAURIDES
URL:https://www.mynerva.net/ajalella/document.php?id=15531
END:VEVENT
END:VCALENDAR