BEGIN:VCALENDAR
VERSION:2.0
PRODID:-//Plone.org//NONSGML plone.app.event//EN
X-WR-TIMEZONE:Europe/Madrid
BEGIN:VEVENT
SUMMARY:Festa Verema. Visita guiada al celler Roura
DTSTART;TZID=Europe/Madrid;VALUE=DATE-TIME:20210904T110000
DTEND;TZID=Europe/Madrid;VALUE=DATE-TIME:20210904T120000
DTSTAMP;VALUE=DATE-TIME:20260424T063754Z
UID:449c677b8516da5a8504bbe9e47b05f3
CREATED;VALUE=DATE-TIME:20210904T000000Z
CATEGORIES:Sortides,Festes i fires,Vi i gastronomia
LOCATION:Celler Roura
ORGANIZER:Ajuntament d'Alella
DESCRIPTION:ENTRADES EXHAURIDES
URL:https://www.mynerva.net/ajalella/document.php?id=15532
END:VEVENT
END:VCALENDAR