BEGIN:VCALENDAR
VERSION:2.0
PRODID:-//Plone.org//NONSGML plone.app.event//EN
X-WR-TIMEZONE:Europe/Madrid
BEGIN:VEVENT
SUMMARY:Festa Verema. Visita guiada al celler Alta Alella Mirgin
DTSTART;TZID=Europe/Madrid;VALUE=DATE-TIME:20210904T160000
DTEND;TZID=Europe/Madrid;VALUE=DATE-TIME:20210904T170000
DTSTAMP;VALUE=DATE-TIME:20260424T063814Z
UID:d8674ed193ddd3e4fac1fdfbcd875a58
CREATED;VALUE=DATE-TIME:20210904T000000Z
CATEGORIES:Sortides,Festes i fires,Vi i gastronomia
LOCATION:Celler Alta Alella Mirgin
ORGANIZER:Ajuntament d'Alella
DESCRIPTION:ENTRADES EXHAURIDES
URL:https://www.mynerva.net/ajalella/document.php?id=15533
END:VEVENT
END:VCALENDAR