BEGIN:VCALENDAR
VERSION:2.0
PRODID:-//Plone.org//NONSGML plone.app.event//EN
X-WR-TIMEZONE:Europe/Madrid
BEGIN:VEVENT
SUMMARY:Festa Verema. Alta Alella Wine Bar. Aperitiu entre vinyes
DTSTART;TZID=Europe/Madrid;VALUE=DATE-TIME:20210904T123000
DTEND;TZID=Europe/Madrid;VALUE=DATE-TIME:20210904T133000
DTSTAMP;VALUE=DATE-TIME:20260424T063850Z
UID:5ed2f3d217d7b175a000cae0bead82b0
CREATED;VALUE=DATE-TIME:20210904T000000Z
CATEGORIES:Festes i fires,Vi i gastronomia
LOCATION:Celler Alta Alella
ORGANIZER:Ajuntament d'Alella
COMMENT:Preu: 15 euros / 2 persones
Durada: De 12.30 a 14h
DESCRIPTION:ENTRADES EXHAURIDES
URL:https://www.mynerva.net/ajalella/document.php?id=15535
END:VEVENT
END:VCALENDAR