BEGIN:VCALENDAR
VERSION:2.0
PRODID:-//Plone.org//NONSGML plone.app.event//EN
X-WR-TIMEZONE:Europe/Madrid
BEGIN:VEVENT
SUMMARY:Festa Verema. Obertura de l'exposició "Registres pendents"
DTSTART;TZID=Europe/Madrid;VALUE=DATE-TIME:20210904T173000
DTEND;TZID=Europe/Madrid;VALUE=DATE-TIME:20210904T183000
DTSTAMP;VALUE=DATE-TIME:20260424T065938Z
UID:71c5b1b2487e8ee847d737683ba0bf06
CREATED;VALUE=DATE-TIME:20210904T000000Z
CATEGORIES:Exposició,Festes i fires,Vi i gastronomia
LOCATION:Can Manyé. Espai d'art i creació - Riera Coma Fosca 42. 08328 Alella
ORGANIZER:Ajuntament d'Alella
COMMENT:Preu: 15 euros / 2 persones
Durada: De 12.30 a 14h
URL:https://www.mynerva.net/ajalella/document.php?id=15536
END:VEVENT
END:VCALENDAR