BEGIN:VCALENDAR
VERSION:2.0
PRODID:-//Plone.org//NONSGML plone.app.event//EN
X-WR-TIMEZONE:Europe/Madrid
BEGIN:VEVENT
SUMMARY:Festa Verema. Wine Bar entre vinyes
DTSTART;TZID=Europe/Madrid;VALUE=DATE-TIME:20210904T180000
DTEND;TZID=Europe/Madrid;VALUE=DATE-TIME:20210904T190000
DTSTAMP;VALUE=DATE-TIME:20260424T070035Z
UID:feccf3639c2f3f35396890855592d338
CREATED;VALUE=DATE-TIME:20210904T000000Z
CATEGORIES:Festes i fires,Vi i gastronomia
LOCATION:Celler Bouquet d'Alella
ORGANIZER:Ajuntament d'Alella
COMMENT:Preu: Segons consumició. Cal reserva prèvia
Durada: De 18 a 21h
DESCRIPTION:ENTRADES EXHAURIDES
URL:https://www.mynerva.net/ajalella/document.php?id=15537
END:VEVENT
END:VCALENDAR