BEGIN:VCALENDAR
VERSION:2.0
PRODID:-//Plone.org//NONSGML plone.app.event//EN
X-WR-TIMEZONE:Europe/Madrid
BEGIN:VEVENT
SUMMARY:Festa Verema. Alta Alella Sunset Wine Bar-DJ Set
DTSTART;TZID=Europe/Madrid;VALUE=DATE-TIME:20210904T180000
DTEND;TZID=Europe/Madrid;VALUE=DATE-TIME:20210904T190000
DTSTAMP;VALUE=DATE-TIME:20260424T070115Z
UID:b577322d1f0f77055f346db4823701d3
CREATED;VALUE=DATE-TIME:20210904T000000Z
CATEGORIES:Espectacles,Música,Festes i fires,Vi i gastronomia
LOCATION:Celler Alta Alella
ORGANIZER:Ajuntament d'Alella
COMMENT:Durada: De 18 a 20.30h
DESCRIPTION:ENTRADES EXHAURIDES
URL:https://www.mynerva.net/ajalella/document.php?id=15538
END:VEVENT
END:VCALENDAR