BEGIN:VCALENDAR
VERSION:2.0
PRODID:-//Plone.org//NONSGML plone.app.event//EN
X-WR-TIMEZONE:Europe/Madrid
BEGIN:VEVENT
SUMMARY:Festa Verema. Visita guiada al celler Quim Batlle
DTSTART;TZID=Europe/Madrid;VALUE=DATE-TIME:20210904T193000
DTEND;TZID=Europe/Madrid;VALUE=DATE-TIME:20210904T203000
DTSTAMP;VALUE=DATE-TIME:20260424T070114Z
UID:51701d47af25dcd5d8caff8f6b6d50ef
CREATED;VALUE=DATE-TIME:20210904T000000Z
CATEGORIES:Sortides,Festes i fires,Vi i gastronomia
LOCATION:Celler Quim Batlle
ORGANIZER:Ajuntament d'Alella
DESCRIPTION:ENTRADES EXHAURIDES
URL:https://www.mynerva.net/ajalella/document.php?id=15540
END:VEVENT
END:VCALENDAR