BEGIN:VCALENDAR
VERSION:2.0
PRODID:-//Plone.org//NONSGML plone.app.event//EN
X-WR-TIMEZONE:Europe/Madrid
BEGIN:VEVENT
SUMMARY:Festa Verema. Projecció del documental L'âge d'or
DTSTART;TZID=Europe/Madrid;VALUE=DATE-TIME:20210904T190000
DTEND;TZID=Europe/Madrid;VALUE=DATE-TIME:20210904T200000
DTSTAMP;VALUE=DATE-TIME:20260424T082155Z
UID:4aba7f9967a7c1319aad2c28cfb7c58f
CREATED;VALUE=DATE-TIME:20210904T000000Z
CATEGORIES:Espectacles,Cinema,Festes i fires,Vi i gastronomia
LOCATION:Espai d'arts escèniques Casal d'Alella - Carrer de Santa Teresa, 9 08328 Alella
ORGANIZER:Ajuntament d'Alella
DESCRIPTION:COMPRA D'ENTRADES
URL:https://www.mynerva.net/ajalella/document.php?id=15542
END:VEVENT
END:VCALENDAR