BEGIN:VCALENDAR
VERSION:2.0
PRODID:-//Plone.org//NONSGML plone.app.event//EN
X-WR-TIMEZONE:Europe/Madrid
BEGIN:VEVENT
SUMMARY:Festa Verema. Visita guiada al celler Can Roda
DTSTART;TZID=Europe/Madrid;VALUE=DATE-TIME:20210905T103000
DTEND;TZID=Europe/Madrid;VALUE=DATE-TIME:20210905T113000
DTSTAMP;VALUE=DATE-TIME:20260424T063814Z
UID:270cb4ce151c6b6f9ed11d5e8e655047
CREATED;VALUE=DATE-TIME:20210905T000000Z
CATEGORIES:Sortides,Festes i fires,Vi i gastronomia
LOCATION:Celler Can Roda
ORGANIZER:Ajuntament d'Alella
DESCRIPTION:ENTRADES EXHAURIDES
URL:https://www.mynerva.net/ajalella/document.php?id=15548
END:VEVENT
END:VCALENDAR