BEGIN:VCALENDAR
VERSION:2.0
PRODID:-//Plone.org//NONSGML plone.app.event//EN
X-WR-TIMEZONE:Europe/Madrid
BEGIN:VEVENT
SUMMARY:Festa Verema. Visita guiada al celler romà de Vallmora
DTSTART;TZID=Europe/Madrid;VALUE=DATE-TIME:20210905T110000
DTEND;TZID=Europe/Madrid;VALUE=DATE-TIME:20210905T120000
DTSTAMP;VALUE=DATE-TIME:20260424T063941Z
UID:d189def51cd5fc5384735184d1afe0cc
CREATED;VALUE=DATE-TIME:20210905T000000Z
CATEGORIES:Sortides,Festes i fires,Vi i gastronomia
LOCATION:Centre Enoturístic i Arqueològic de Vallmora
ORGANIZER:Ajuntament d'Alella
DESCRIPTION:ENTRADES EXHAURIDES
URL:https://www.mynerva.net/ajalella/document.php?id=15549
END:VEVENT
END:VCALENDAR