BEGIN:VCALENDAR
VERSION:2.0
PRODID:-//Plone.org//NONSGML plone.app.event//EN
X-WR-TIMEZONE:Europe/Madrid
BEGIN:VEVENT
SUMMARY:Festa Verema. Visita guiada al celler Raventós d'Alella
DTSTART;TZID=Europe/Madrid;VALUE=DATE-TIME:20210905T120000
DTEND;TZID=Europe/Madrid;VALUE=DATE-TIME:20210905T130000
DTSTAMP;VALUE=DATE-TIME:20260424T063958Z
UID:b5b0a3df42e23bd03f514046ed7b9d14
CREATED;VALUE=DATE-TIME:20210905T000000Z
CATEGORIES:Sortides,Festes i fires,Vi i gastronomia
LOCATION:Celler Raventós d'Alella
ORGANIZER:Ajuntament d'Alella
DESCRIPTION:ENTRADES EXHAURIDES
URL:https://www.mynerva.net/ajalella/document.php?id=15550
END:VEVENT
END:VCALENDAR