BEGIN:VCALENDAR
VERSION:2.0
PRODID:-//Plone.org//NONSGML plone.app.event//EN
X-WR-TIMEZONE:Europe/Madrid
BEGIN:VEVENT
SUMMARY:Festa Verema. Visita guiada a les vinyes d'Albert Federico
DTSTART;TZID=Europe/Madrid;VALUE=DATE-TIME:20210905T190000
DTEND;TZID=Europe/Madrid;VALUE=DATE-TIME:20210905T200000
DTSTAMP;VALUE=DATE-TIME:20260424T064841Z
UID:2b4e923e801ad1b59241f4b502388bb1
CREATED;VALUE=DATE-TIME:20210905T000000Z
CATEGORIES:Sortides,Festes i fires,Vi i gastronomia
LOCATION:Institut Alella (El Bosquet)
ORGANIZER:Ajuntament d'Alella
DESCRIPTION:ENTRADES EXHAURIDES
URL:https://www.mynerva.net/ajalella/document.php?id=15551
END:VEVENT
END:VCALENDAR