BEGIN:VCALENDAR
VERSION:2.0
PRODID:-//Plone.org//NONSGML plone.app.event//EN
X-WR-TIMEZONE:Europe/Madrid
BEGIN:VEVENT
SUMMARY:Festa Verema. Wine Bar entre vinyes
DTSTART;TZID=Europe/Madrid;VALUE=DATE-TIME:20210905T110000
DTEND;TZID=Europe/Madrid;VALUE=DATE-TIME:20210905T120000
DTSTAMP;VALUE=DATE-TIME:20260424T070126Z
UID:ede3ae2d207cb710d161b72a91819e75
CREATED;VALUE=DATE-TIME:20210905T000000Z
CATEGORIES:Festes i fires,Vi i gastronomia
LOCATION:Celler Bouquet d'Alella
ORGANIZER:Ajuntament d'Alella
COMMENT:Preu: Segons consumició. Cal reserva prèvia
Durada: D'11 a 14h
DESCRIPTION:ENTRADES EXHAURIDES
URL:https://www.mynerva.net/ajalella/document.php?id=15552
END:VEVENT
END:VCALENDAR