BEGIN:VCALENDAR
VERSION:2.0
PRODID:-//Plone.org//NONSGML plone.app.event//EN
X-WR-TIMEZONE:Europe/Madrid
BEGIN:VEVENT
SUMMARY:Festa Verema. Contes d'aixafar raïm
DTSTART;TZID=Europe/Madrid;VALUE=DATE-TIME:20210905T110000
DTEND;TZID=Europe/Madrid;VALUE=DATE-TIME:20210905T120000
DTSTAMP;VALUE=DATE-TIME:20260424T070244Z
UID:5de71a3216dc99a3f57326767aa46f0d
CREATED;VALUE=DATE-TIME:20210905T000000Z
CATEGORIES:Espectacles,Festes i fires,Vi i gastronomia,Familiars
LOCATION:Espai d'arts escèniques Casal d'Alella - Carrer de Santa Teresa, 9 08328 Alella
ORGANIZER:Ajuntament d'Alella
DESCRIPTION:ENTRADES EXHAURIDES
URL:https://www.mynerva.net/ajalella/document.php?id=15555
END:VEVENT
END:VCALENDAR