BEGIN:VCALENDAR
VERSION:2.0
PRODID:-//Plone.org//NONSGML plone.app.event//EN
X-WR-TIMEZONE:Europe/Madrid
BEGIN:VEVENT
SUMMARY:Festa Verema. Matinada de verema
DTSTART;TZID=Europe/Madrid;VALUE=DATE-TIME:20210905T060000
DTEND;TZID=Europe/Madrid;VALUE=DATE-TIME:20210905T070000
DTSTAMP;VALUE=DATE-TIME:20260424T070219Z
UID:2ddc54018a1e697dbf499f7a85639124
CREATED;VALUE=DATE-TIME:20210905T000000Z
CATEGORIES:Festes i fires,Vi i gastronomia
LOCATION:Masia de Can Magarola - Avda. Sant Mateu, 2. 08328 Alella
ORGANIZER:Ajuntament d'Alella
DESCRIPTION:COMPRA D'ENTRADA 
URL:https://www.mynerva.net/ajalella/document.php?id=15556
END:VEVENT
END:VCALENDAR