BEGIN:VCALENDAR
VERSION:2.0
PRODID:-//Plone.org//NONSGML plone.app.event//EN
X-WR-TIMEZONE:Europe/Madrid
BEGIN:VEVENT
SUMMARY:Festa Verema. Visita patrimonial: Les Masies d'Alella
DTSTART;TZID=Europe/Madrid;VALUE=DATE-TIME:20210904T100000
DTEND;TZID=Europe/Madrid;VALUE=DATE-TIME:20210904T110000
DTSTAMP;VALUE=DATE-TIME:20260424T063814Z
UID:1f2b09a4d846e719e9162855690aa292
CREATED;VALUE=DATE-TIME:20210904T000000Z
CATEGORIES:Sortides,Festes i fires,Vi i gastronomia
LOCATION:Oficina de Turisme - Riera Fosca 2. 08328 Alella
ORGANIZER:Ajuntament d'Alella
DESCRIPTION:ENTRADES EXHAURIDES
URL:https://www.mynerva.net/ajalella/document.php?id=15564
END:VEVENT
END:VCALENDAR