BEGIN:VCALENDAR
VERSION:2.0
PRODID:-//Plone.org//NONSGML plone.app.event//EN
X-WR-TIMEZONE:Europe/Madrid
BEGIN:VEVENT
SUMMARY:Cinema. Apolo 11
DTSTART;TZID=Europe/Madrid;VALUE=DATE-TIME:20210921T200000
DTEND;TZID=Europe/Madrid;VALUE=DATE-TIME:20210921T210000
DTSTAMP;VALUE=DATE-TIME:20260424T144220Z
UID:39b526cc6164ce9b087952030fea6e04
CREATED;VALUE=DATE-TIME:20210921T000000Z
CATEGORIES:Cinema,Tertúlies
LOCATION:Associació Casal d'Alella. C. de Santa Madrona, 10. Alella
ORGANIZER:Agrupació d'Astronomia d'Alella i Associació Casal d'Alella
COMMENT:Durada: A les 20 h
DESCRIPTION:Projecció del film amb imatges inèdites (HD) de l'arribada a la lluna
URL:https://www.mynerva.net/ajalella/document.php?id=15592
END:VEVENT
END:VCALENDAR