BEGIN:VCALENDAR
VERSION:2.0
PRODID:-//Plone.org//NONSGML plone.app.event//EN
X-WR-TIMEZONE:Europe/Madrid
BEGIN:VEVENT
SUMMARY:Cinema. Cicle Gaudí: Les dues nits d'ahir
DTSTART;TZID=Europe/Madrid;VALUE=DATE-TIME:20211026T190000
DTEND;TZID=Europe/Madrid;VALUE=DATE-TIME:20211026T200000
DTSTAMP;VALUE=DATE-TIME:20260424T144219Z
UID:b9020936f1bd7787f4938f0a4ba72950
CREATED;VALUE=DATE-TIME:20211026T000000Z
CATEGORIES:Cinema
LOCATION:Espai d'arts escèniques Casal d'Alella - Carrer de Santa Teresa, 9 08328 Alella
COMMENT:Preu: entre 2,25 i 4,50
Durada: 84 min.
DESCRIPTION:Pau Cruanyes, Gerard Vidal Barrena

URL:https://www.mynerva.net/ajalella/document.php?id=15597
END:VEVENT
END:VCALENDAR