BEGIN:VCALENDAR
VERSION:2.0
PRODID:-//Plone.org//NONSGML plone.app.event//EN
X-WR-TIMEZONE:Europe/Madrid
BEGIN:VEVENT
SUMMARY:Jornades 25N.
Teatre. Inèrcia
DTSTART;TZID=Europe/Madrid;VALUE=DATE-TIME:20211119T200000
DTEND;TZID=Europe/Madrid;VALUE=DATE-TIME:20211119T210000
DTSTAMP;VALUE=DATE-TIME:20260424T082447Z
UID:6176a27dea49a3697c93c7d5c144eec0
CREATED;VALUE=DATE-TIME:20211119T000000Z
CATEGORIES:Espectacles
LOCATION:Espai d'arts escèniques Casal d'Alella - Carrer de Santa Teresa, 9 08328 Alella
COMMENT:Preu: Gratuït
Durada: 35 min. + col.loqui
DESCRIPTION:Companyia Inèrcia
URL:https://www.mynerva.net/ajalella/document.php?id=15602
END:VEVENT
END:VCALENDAR