BEGIN:VCALENDAR
VERSION:2.0
PRODID:-//Plone.org//NONSGML plone.app.event//EN
X-WR-TIMEZONE:Europe/Madrid
BEGIN:VEVENT
SUMMARY:Màgia. Glam
DTSTART;TZID=Europe/Madrid;VALUE=DATE-TIME:20211212T180000
DTEND;TZID=Europe/Madrid;VALUE=DATE-TIME:20211212T190000
DTSTAMP;VALUE=DATE-TIME:20260419T213532Z
UID:08383f2e410628532db3f9a1d6a5448e
CREATED;VALUE=DATE-TIME:20211212T000000Z
CATEGORIES:Espectacles
LOCATION:Espai d'arts escèniques Casal d'Alella - Carrer de Santa Teresa, 9 08328 Alella
COMMENT:Preu: Entre 4,50 i 6
Durada: 1 h. i 15 min.
DESCRIPTION:Melanie
URL:https://www.mynerva.net/ajalella/document.php?id=15606
END:VEVENT
END:VCALENDAR