BEGIN:VCALENDAR
VERSION:2.0
PRODID:-//Plone.org//NONSGML plone.app.event//EN
X-WR-TIMEZONE:Europe/Madrid
BEGIN:VEVENT
SUMMARY:Taller de màgia amb Melanie
DTSTART;TZID=Europe/Madrid;VALUE=DATE-TIME:20211212T120000
DTEND;TZID=Europe/Madrid;VALUE=DATE-TIME:20211212T130000
DTSTAMP;VALUE=DATE-TIME:20260419T182352Z
UID:214325de6f733a616e506c8330654a86
CREATED;VALUE=DATE-TIME:20211212T000000Z
CATEGORIES:Familiars
LOCATION:Espai d'arts escèniques Casal d'Alella - Carrer de Santa Teresa, 9 08328 Alella
COMMENT:Preu: 4,50 &euro;
Durada: 1 h. i 15 min.
URL:https://www.mynerva.net/ajalella/document.php?id=15607
END:VEVENT
END:VCALENDAR