BEGIN:VCALENDAR
VERSION:2.0
PRODID:-//Plone.org//NONSGML plone.app.event//EN
X-WR-TIMEZONE:Europe/Madrid
BEGIN:VEVENT
SUMMARY:Tast. Un petit viatge per a tastar vins negres
DTSTART;TZID=Europe/Madrid;VALUE=DATE-TIME:20211014T190000
DTEND;TZID=Europe/Madrid;VALUE=DATE-TIME:20211014T200000
DTSTAMP;VALUE=DATE-TIME:20260424T064051Z
UID:fb5f4bc21a3a57ea01e7a90203295dee
CREATED;VALUE=DATE-TIME:20211014T000000Z
CATEGORIES:Vi i gastronomia
LOCATION:Centre Cultural de Can Lleonart - Plaça dels Germans Lleonart, 1 08328 Alella
ORGANIZER:Ajuntament d'Alella
COMMENT:Preu: 20&euro;
URL:https://www.mynerva.net/ajalella/document.php?id=15648
END:VEVENT
END:VCALENDAR