BEGIN:VCALENDAR
VERSION:2.0
PRODID:-//Plone.org//NONSGML plone.app.event//EN
X-WR-TIMEZONE:Europe/Madrid
BEGIN:VEVENT
SUMMARY:Cinema. La Patrulla Canina
DTSTART;TZID=Europe/Madrid;VALUE=DATE-TIME:20210918T173000
DTEND;TZID=Europe/Madrid;VALUE=DATE-TIME:20210918T183000
DTSTAMP;VALUE=DATE-TIME:20260424T070137Z
UID:d905b956cf8d6c28d7af8d526491390a
CREATED;VALUE=DATE-TIME:20210918T000000Z
CATEGORIES:Cinema,Familiars
LOCATION:Espai d'arts escèniques Casal d'Alella - Carrer de Santa Teresa, 9 08328 Alella
ORGANIZER:Ajuntament d'Alella
COMMENT:Preu: 6,50 (4,50 dia de preu reduït)
Durada: 1h i 28 min.
URL:https://www.mynerva.net/ajalella/document.php?id=15651
END:VEVENT
END:VCALENDAR