BEGIN:VCALENDAR
VERSION:2.0
PRODID:-//Plone.org//NONSGML plone.app.event//EN
X-WR-TIMEZONE:Europe/Madrid
BEGIN:VEVENT
SUMMARY:Tast de formatges guanyadors del concurs de La Seu
DTSTART;TZID=Europe/Madrid;VALUE=DATE-TIME:20211118T000000
DTEND;TZID=Europe/Madrid;VALUE=DATE-TIME:20211118T010000
DTSTAMP;VALUE=DATE-TIME:20260424T082224Z
UID:12b3b55b195106f2ca5fec262a683066
CREATED;VALUE=DATE-TIME:20211118T000000Z
CATEGORIES:Cursos,Vi i gastronomia
LOCATION:Centre Cultural de Can Lleonart - Plaça dels Germans Lleonart, 1 08328 Alella
ORGANIZER:Ajuntament d'Alella
COMMENT:Preu: 20&euro;
URL:https://www.mynerva.net/ajalella/document.php?id=15657
END:VEVENT
END:VCALENDAR