BEGIN:VCALENDAR
VERSION:2.0
PRODID:-//Plone.org//NONSGML plone.app.event//EN
X-WR-TIMEZONE:Europe/Madrid
BEGIN:VEVENT
SUMMARY:Tast de pernil
DTSTART;TZID=Europe/Madrid;VALUE=DATE-TIME:20211202T190000
DTEND;TZID=Europe/Madrid;VALUE=DATE-TIME:20211202T200000
DTSTAMP;VALUE=DATE-TIME:20260424T114928Z
UID:2ae8fe9b497b50bc9343789a13a11008
CREATED;VALUE=DATE-TIME:20211202T000000Z
CATEGORIES:Cursos,Vi i gastronomia
LOCATION:Centre Cultural de Can Lleonart - Plaça dels Germans Lleonart, 1 08328 Alella
ORGANIZER:Ajuntament d'Alella
COMMENT:Preu: 39&euro;
URL:https://www.mynerva.net/ajalella/document.php?id=15658
END:VEVENT
END:VCALENDAR