BEGIN:VCALENDAR
VERSION:2.0
PRODID:-//Plone.org//NONSGML plone.app.event//EN
X-WR-TIMEZONE:Europe/Madrid
BEGIN:VEVENT
SUMMARY:Sortida. El Born. De la Barcelona Medieval a 1714
DTSTART;TZID=Europe/Madrid;VALUE=DATE-TIME:20211201T093000
DTEND;TZID=Europe/Madrid;VALUE=DATE-TIME:20211201T103000
DTSTAMP;VALUE=DATE-TIME:20260424T062430Z
UID:f2f22843ab95da278f0de9156967ff3d
CREATED;VALUE=DATE-TIME:20211201T000000Z
CATEGORIES:Sortides
LOCATION:Centre Cultural de Can Lleonart - Plaça dels Germans Lleonart, 1 08328 Alella
ORGANIZER:Ajuntament d'Alella
COMMENT:Preu: 16&euro;
URL:https://www.mynerva.net/ajalella/document.php?id=15662
END:VEVENT
END:VCALENDAR