BEGIN:VCALENDAR
VERSION:2.0
PRODID:-//Plone.org//NONSGML plone.app.event//EN
X-WR-TIMEZONE:Europe/Madrid
BEGIN:VEVENT
SUMMARY:Tertúlia. Cicle Beethoven 250 "La maduresa" (1809 1827). ENTRADES EXHAURIDES
DTSTART;TZID=Europe/Madrid;VALUE=DATE-TIME:20211209T190000
DTEND;TZID=Europe/Madrid;VALUE=DATE-TIME:20211209T200000
DTSTAMP;VALUE=DATE-TIME:20260424T160105Z
UID:ca0969f3bed5a7bb18fbd0f997e9a8bc
CREATED;VALUE=DATE-TIME:20211209T000000Z
CATEGORIES:Tertúlies
LOCATION:A determinar
ORGANIZER:Ajuntament d'Alella
COMMENT:Preu: Gratuït
DESCRIPTION:Amb Joan Vives, divulgador musical
URL:https://www.mynerva.net/ajalella/document.php?id=15664
END:VEVENT
END:VCALENDAR