BEGIN:VCALENDAR
VERSION:2.0
PRODID:-//Plone.org//NONSGML plone.app.event//EN
X-WR-TIMEZONE:Europe/Madrid
BEGIN:VEVENT
SUMMARY:Acte de commemoració del Dia Internacional del Dol perinatal i gestacional
DTSTART;TZID=Europe/Madrid;VALUE=DATE-TIME:20211016T120000
DTEND;TZID=Europe/Madrid;VALUE=DATE-TIME:20211016T130000
DTSTAMP;VALUE=DATE-TIME:20260424T144306Z
UID:cf3d0f86ce136dc02ea7d03a454fd615
CREATED;VALUE=DATE-TIME:20211016T000000Z
CATEGORIES:Jornades
LOCATION:Cementiri d'Alella
ORGANIZER:Ajuntament d'Alella
COMMENT:Preu: Gratuït
URL:https://www.mynerva.net/ajalella/document.php?id=15669
END:VEVENT
END:VCALENDAR