BEGIN:VCALENDAR
VERSION:2.0
PRODID:-//Plone.org//NONSGML plone.app.event//EN
X-WR-TIMEZONE:Europe/Madrid
BEGIN:VEVENT
SUMMARY:Visita guiada a la Vall de Rials
DTSTART;TZID=Europe/Madrid;VALUE=DATE-TIME:20210912T100000
DTEND;TZID=Europe/Madrid;VALUE=DATE-TIME:20210912T110000
DTSTAMP;VALUE=DATE-TIME:20260424T070137Z
UID:71ae3faad8c27979198c9e36ea849b3d
CREATED;VALUE=DATE-TIME:20210912T000000Z
CATEGORIES:Sortides,Esports
LOCATION:Oficina de Turisme
ORGANIZER:Ajuntament d'Alella
COMMENT:Preu: 4 euros
DESCRIPTION:COMPRAR ENTRADA
URL:https://www.mynerva.net/ajalella/document.php?id=15670
END:VEVENT
END:VCALENDAR