BEGIN:VCALENDAR
VERSION:2.0
PRODID:-//Plone.org//NONSGML plone.app.event//EN
X-WR-TIMEZONE:Europe/Madrid
BEGIN:VEVENT
SUMMARY:Taller amb famílies. Procés de participació "Fem créixer el Parc de la Vinya!"
DTSTART;TZID=Europe/Madrid;VALUE=DATE-TIME:20210924T163000
DTEND;TZID=Europe/Madrid;VALUE=DATE-TIME:20210924T173000
DTSTAMP;VALUE=DATE-TIME:20260424T175202Z
UID:58453640bbf20b9a0b7653eeac282f2c
CREATED;VALUE=DATE-TIME:20210924T000000Z
CATEGORIES:Jornades
LOCATION:Sortida de l'escola de la Serreta
ORGANIZER:Ajuntament d'Alella
COMMENT:Durada: De 16.30 a 18.30h
URL:https://www.mynerva.net/ajalella/document.php?id=15671
END:VEVENT
END:VCALENDAR