BEGIN:VCALENDAR
VERSION:2.0
PRODID:-//Plone.org//NONSGML plone.app.event//EN
X-WR-TIMEZONE:Europe/Madrid
BEGIN:VEVENT
SUMMARY:Taller participatiu amb els veïns i veïnes de la Serreta
DTSTART;TZID=Europe/Madrid;VALUE=DATE-TIME:20210928T190000
DTEND;TZID=Europe/Madrid;VALUE=DATE-TIME:20210928T200000
DTSTAMP;VALUE=DATE-TIME:20260424T175040Z
UID:0e677eea71ebbb524d4cc9af763c2317
CREATED;VALUE=DATE-TIME:20210928T000000Z
CATEGORIES:Jornades
LOCATION:Pati de l'Escola La Serreta - C/ La Vinya 47-51
ORGANIZER:Ajuntament d'Alella
URL:https://www.mynerva.net/ajalella/document.php?id=15672
END:VEVENT
END:VCALENDAR