BEGIN:VCALENDAR
VERSION:2.0
PRODID:-//Plone.org//NONSGML plone.app.event//EN
X-WR-TIMEZONE:Europe/Madrid
BEGIN:VEVENT
SUMMARY:Conferència i presentació exposició "Identitat Esculpida"
DTSTART;TZID=Europe/Madrid;VALUE=DATE-TIME:20210918T110000
DTEND;TZID=Europe/Madrid;VALUE=DATE-TIME:20210918T120000
DTSTAMP;VALUE=DATE-TIME:20260424T082534Z
UID:9a56b356b0fb3534bdb50395e11d1b9a
CREATED;VALUE=DATE-TIME:20210918T000000Z
CATEGORIES:Tertúlies,Esports
LOCATION:Espai d'arts escèniques Casal d'Alella - Carrer de Santa Teresa, 9 08328 Alella
ORGANIZER:Ajuntament d'Alella
COMMENT:Preu: Gratuït
Durada: Cal reservar d'entrada en aquest FORMULARI
DESCRIPTION:A càrrec de Mar Hernández Plana, artista i esportista
URL:https://www.mynerva.net/ajalella/document.php?id=15678
END:VEVENT
END:VCALENDAR