BEGIN:VCALENDAR
VERSION:2.0
PRODID:-//Plone.org//NONSGML plone.app.event//EN
X-WR-TIMEZONE:Europe/Madrid
BEGIN:VEVENT
SUMMARY:Debat i col·loqui a càrrec de Rafael Clemente
DTSTART;TZID=Europe/Madrid;VALUE=DATE-TIME:20210928T190000
DTEND;TZID=Europe/Madrid;VALUE=DATE-TIME:20210928T200000
DTSTAMP;VALUE=DATE-TIME:20260424T175213Z
UID:cb1510eb42b9fc9062668de0ee739523
CREATED;VALUE=DATE-TIME:20210928T000000Z
CATEGORIES:Cinema,Tertúlies
LOCATION:Associació Casal d'Alella. C. de Santa Madrona, 10. Alella (El Maresme)
ORGANIZER:Agrupació Astronòmica d'Alella i Associació Casal d'Alella
COMMENT:Preu: Gratuït socis del Casal d'Alella i d'Astroalella. 3 &euro; per al públic, en general.
DESCRIPTION:Apolo 11. L'arribada de l'home a la lluna
URL:https://www.mynerva.net/ajalella/document.php?id=15707
END:VEVENT
END:VCALENDAR