BEGIN:VCALENDAR
VERSION:2.0
PRODID:-//Plone.org//NONSGML plone.app.event//EN
X-WR-TIMEZONE:Europe/Madrid
BEGIN:VEVENT
SUMMARY:Cinema. Jinetes de la justicia
DTSTART;TZID=Europe/Madrid;VALUE=DATE-TIME:20210925T193000
DTEND;TZID=Europe/Madrid;VALUE=DATE-TIME:20210925T203000
DTSTAMP;VALUE=DATE-TIME:20260424T131206Z
UID:f82150788ba3236de103a9f7bcf03254
CREATED;VALUE=DATE-TIME:20210925T000000Z
CATEGORIES:Cinema
LOCATION:Espai d'arts escèniques Casal d'Alella - Carrer de Santa Teresa, 9 08328 Alella
ORGANIZER:Ajuntament d'Alella
COMMENT:Preu: 6,50 (4,50 dia de preu reduït)
Durada: 1h i 52 min.
URL:https://www.mynerva.net/ajalella/document.php?id=15708
END:VEVENT
END:VCALENDAR