BEGIN:VCALENDAR
VERSION:2.0
PRODID:-//Plone.org//NONSGML plone.app.event//EN
X-WR-TIMEZONE:Europe/Madrid
BEGIN:VEVENT
SUMMARY:Cinema. Los Olchis (En català)
DTSTART;TZID=Europe/Madrid;VALUE=DATE-TIME:20210926T170000
DTEND;TZID=Europe/Madrid;VALUE=DATE-TIME:20210926T180000
DTSTAMP;VALUE=DATE-TIME:20260424T131326Z
UID:e0229eff119b31f3e7d40c713adf021b
CREATED;VALUE=DATE-TIME:20210926T000000Z
CATEGORIES:Cinema
LOCATION:Espai d'arts escèniques Casal d'Alella - Carrer de Santa Teresa, 9 08328 Alella
ORGANIZER:Ajuntament d'Alella
COMMENT:Preu: 6,50
Durada: 1h i 26 min.
URL:https://www.mynerva.net/ajalella/document.php?id=15711
END:VEVENT
END:VCALENDAR