BEGIN:VCALENDAR
VERSION:2.0
PRODID:-//Plone.org//NONSGML plone.app.event//EN
X-WR-TIMEZONE:Europe/Madrid
BEGIN:VEVENT
SUMMARY:Visita comentada i tancament de l'exposició Registres Pendents
DTSTART;TZID=Europe/Madrid;VALUE=DATE-TIME:20211017T120000
DTEND;TZID=Europe/Madrid;VALUE=DATE-TIME:20211017T130000
DTSTAMP;VALUE=DATE-TIME:20260424T045649Z
UID:8d974a99720604a6a8e6840cad657167
CREATED;VALUE=DATE-TIME:20211017T000000Z
CATEGORIES:Exposició
LOCATION:Can Manyé. Espai d'art i creació - Riera Coma Fosca 42. 08328 Alella
ORGANIZER:Ajuntament d'Alella
DESCRIPTION:Activitat amb els artistes Mònica Roselló i Jordi Guillumet
URL:https://www.mynerva.net/ajalella/document.php?id=15748
END:VEVENT
END:VCALENDAR