BEGIN:VCALENDAR
VERSION:2.0
PRODID:-//Plone.org//NONSGML plone.app.event//EN
X-WR-TIMEZONE:Europe/Madrid
BEGIN:VEVENT
SUMMARY:Itinerari guiat. Les cases senyorials d'Alella
DTSTART;TZID=Europe/Madrid;VALUE=DATE-TIME:20211212T100000
DTEND;TZID=Europe/Madrid;VALUE=DATE-TIME:20211212T110000
DTSTAMP;VALUE=DATE-TIME:20260419T195414Z
UID:bdeec3df1d42f278df740883c1c82abb
CREATED;VALUE=DATE-TIME:20211212T000000Z
CATEGORIES:Sortides
LOCATION:Oficina de Turisme - Riera Fosca 2. 08328 Alella
ORGANIZER:Ajuntament d'Alella
COMMENT:Preu: 5 euros
Durada: Durada de 2h
DESCRIPTION:COMPRA D'ENTRADA
URL:https://www.mynerva.net/ajalella/document.php?id=15751
END:VEVENT
END:VCALENDAR